BEGIN:VCALENDAR
VERSION:2.0
PRODID:-//Living Water Ministries - ECPv6.15.20//NONSGML v1.0//EN
CALSCALE:GREGORIAN
METHOD:PUBLISH
X-ORIGINAL-URL:https://livingwaterministries.nl
X-WR-CALDESC:Evenementen voor Living Water Ministries
REFRESH-INTERVAL;VALUE=DURATION:PT1H
X-Robots-Tag:noindex
X-PUBLISHED-TTL:PT1H
BEGIN:VTIMEZONE
TZID:UTC
BEGIN:STANDARD
TZOFFSETFROM:+0000
TZOFFSETTO:+0000
TZNAME:UTC
DTSTART:20240101T000000
END:STANDARD
END:VTIMEZONE
BEGIN:VEVENT
DTSTART;TZID=UTC:20260329T140000
DTEND;TZID=UTC:20260329T160000
DTSTAMP:20260420T144846
CREATED:20260311T115845Z
LAST-MODIFIED:20260311T115845Z
UID:2193-1774792800-1774800000@livingwaterministries.nl
SUMMARY:EVANGELISATIE CELEBRATION IN HARDE!!
DESCRIPTION:EVANGELISATIE CELEBRATION IN HARDE!! AANVANG 14.00 UUR. \nZondagmiddag 29 maart a.s. zijn we door onze goede vrienden  en leiders Hindrik en Manon van Dijken uitgenodigd om een spetterende Evangelisatie Celebration te houden!! We gaan met z’n allen de Heer Jezus aanbidden en supermooie liedjes zingen!! Ook zal ik een frisse Boodschap brengen rechtsstreek van de Troon van God!!  Neem vrienden mee!! \nAls je in de buurt woont dan ben je van harte uitgenodigd om ook aanwezig te zijn!! Je zal er van genieten!!  Ook is er ruimte voor een gesprek en persoonlijk gebed!!   Als je ziek ben? We gaan je zalven met olie en samenstemmen en geloven voor een wonder!!   \nLOCATIE: SPORTGEBOUW \nEVANGELISCHE GEMEENTE DE FONTEIN \nSTADSWEG 27 IN HARDE \nAANVANG 14.00 UUR \n  \n  \n  \n  \n  \n 
URL:https://livingwaterministries.nl/event/evangelisatie-celebration-in-harde/
ATTACH;FMTTYPE=image/jpeg:https://livingwaterministries.nl/wp-content/uploads/2024/10/AANKOMST-PAPUA-SORONG-1.jpg
END:VEVENT
BEGIN:VEVENT
DTSTART;TZID=UTC:20260308T100000
DTEND;TZID=UTC:20260308T120000
DTSTAMP:20260420T144846
CREATED:20260116T190237Z
LAST-MODIFIED:20260116T190251Z
UID:2145-1772964000-1772971200@livingwaterministries.nl
SUMMARY:Evangelisatie Celebration Victory Church
DESCRIPTION:EVANGELISATIE CELEBRATION IN DE VICTORY CHURCH IN DRACHTEN!! Aanvang 10.30 uur \nZondagmorgen 8 maart a.s. zijn we uitgenodigd door onze vrienden Oebele en Hella Malewer\, voorgangers van de geweldige Victory Church om een feestelijke Evangelisatie Celebration te verzorgen!! Dit beloofd een muzikale en frisse dienst te worden!!  Nodig je (onbekeerde) vrienden\, collega’s of buren uit en geloof voor wonderen!!  Ook is er gelegenheid om te bidden voor de zieken en voor andere noden!! \nNa afloop is er geurende koffie of thee en iets lekkers!!   Iedereen hartelijk welkom!!  Aanvang 10.30 uur!! \nVICTORY CHURCH \nDe Drift 38 \nDrachten  
URL:https://livingwaterministries.nl/event/evangelisatie-celebration-victory-church/
ATTACH;FMTTYPE=image/jpeg:https://livingwaterministries.nl/wp-content/uploads/2025/11/Esther-Arjan-en-danseressen-kopie-kopie-kopie.jpg
END:VEVENT
BEGIN:VEVENT
DTSTART;TZID=UTC:20260301T100000
DTEND;TZID=UTC:20260301T120000
DTSTAMP:20260420T144846
CREATED:20260113T201441Z
LAST-MODIFIED:20260113T201547Z
UID:2142-1772359200-1772366400@livingwaterministries.nl
SUMMARY:EVANGELISATIEDIENST IN ONZE EG DE LEVENSBRON ZEVENHUIZEN
DESCRIPTION:EVANGELISATIEDIENST IN ONZE EG DE LEVENSBRON IN ZEVENHUIZEN (GR) \nZondagmorgen 1 maart a.s. houden we in onze Levensbron Gemeente een sprankelende en frisse evangelisatiedienst!! Mocht je in de buurt wonen of zin hebben om ook te genieten en te komen dan ben je van harte welkom!! \nNeem je  (onbekeerde) vrienden/collega’s mee en geloof dat ze een aanraking van Jezus gaan ervaren en tot geloof zullen komen!! \nEG DE LEVENSBRON \nOUDESTREEK 11 \nZEVENHUIZEN  (Gr)
URL:https://livingwaterministries.nl/event/evangelisatiedienst-in-onze-eg-de-levensbron-zevenhuizen/
ATTACH;FMTTYPE=image/jpeg:https://livingwaterministries.nl/wp-content/uploads/2023/11/foto-11-1.jpg
END:VEVENT
BEGIN:VEVENT
DTSTART;TZID=UTC:20260208T100000
DTEND;TZID=UTC:20260208T123000
DTSTAMP:20260420T144846
CREATED:20260113T141411Z
LAST-MODIFIED:20260205T180554Z
UID:2115-1770544800-1770553800@livingwaterministries.nl
SUMMARY:Evangelisatiedienst Joshua Gemeente Helmond
DESCRIPTION:EVANGELISATIEDIENST IN DE JOSHUA GEMEENTE IN HELMOND!!  AANVANG 10.00 UUR \nZondagmorgen 8 februari zullen we op uitnodiging van onze vriend Rowdy Roelants\, voorganger van de levendige en fijne gemeente een evangelisatiedienst verzorgen!!  We gaan heerlijk zingen en getuigenissen doorgeven van de wonderen die we onlangs in Indonesië hebben ervaren!! \nMIS DIT NIET!!  NODIG JE VRIENDEN EN FAMILIE UIT!!  HET WORDT EEN SUPERMOOI FEEST!! \nGebed voor de zieken en andere noden! Kom en verwacht een wonder van God!!  Hij wil jou helpen!! \nJOSHUA GEMEENTE \nWILLEMPRINZENSTRAAT 43 \nHELMOND  
URL:https://livingwaterministries.nl/event/evangelisatiedienst-joshua-gemeente-helmond/
ATTACH;FMTTYPE=image/jpeg:https://livingwaterministries.nl/wp-content/uploads/2024/10/ARJAN-TUSSEN-DE-JONGENS.jpg
END:VEVENT
BEGIN:VEVENT
DTSTART;TZID=UTC:20260118T100000
DTEND;TZID=UTC:20260118T120000
DTSTAMP:20260420T144846
CREATED:20260113T133700Z
LAST-MODIFIED:20260113T134504Z
UID:2105-1768730400-1768737600@livingwaterministries.nl
SUMMARY:Evangelisatiedienst in Rijssen
DESCRIPTION:EVANGELISATIE DIENST IN DE PETACH TIQVAH IN RIJSSEN!! \nZondagmorgen18 januari a.s. houden we op uitnodiging van onze vriend pastor Charles Ringringdulu in de charismatische en fijne Molukse Volle Evangelie Gemeente Petach  Tiqva een krachtige Holy Ghost Evangelisatiedienst!! In het bijzonder zullen we zieken zalven met olie en bidden voor andere noden!! We geloven dat de Heer wonderen gaat doen!! Neem iemand mee die ziek is of gebed nodig heeft!! \n  \nDe aanvang is 10.00 uur!! \nRuyterstraat 12 \n7461 GK Rijssen . \n  \n 
URL:https://livingwaterministries.nl/event/evangelisatiedienst-in-rijssen/
ATTACH;FMTTYPE=image/jpeg:https://livingwaterministries.nl/wp-content/uploads/2025/11/WhatsApp-Image-2025-11-17-at-10.27.40.jpeg
END:VEVENT
BEGIN:VEVENT
DTSTART;TZID=UTC:20251221T103000
DTEND;TZID=UTC:20251221T123000
DTSTAMP:20260420T144846
CREATED:20251119T201150Z
LAST-MODIFIED:20251119T201150Z
UID:2035-1766313000-1766320200@livingwaterministries.nl
SUMMARY:Warme Kerst Celebration in Christ Worship Centre Amsterdam
DESCRIPTION:EEN WARME KERST CELEBRATION IN CHRIST WORSHIP CENTRE IN AMSTERDAM Aanvang 10.30 uur  \nOp zondagmorgen 21 december a.s. zijn we uitgenodigd door onze goede vrienden James en Gaby Worthington\, voorgangers van Christ Worship Centre om een speciale en warme Kerst Celebration te houden. We zullen een paar schitterende Kerstnummers zingen en tevens mijn getuigenis hoe ik als verslaafde 19-jarige jongen radicaal tot levend geloof kwam in een Indonesische Bethel Gemeente in het centrum van Amsterdam!! \nNa de dienst gratis warme chocolademelk en koeken voor iedereen!  Nodig je (onbekeerde) vrienden\, familieleden en kennissen uit. Dit is bij uitstek een fantastische dag om een ontmoeting met Christus!!    \nCHRIST WORSHIP CENTRE  \nWITBOLSTRAAT 9  \nAMSTERDAM \nAanvang 10.30 uur  \n 
URL:https://livingwaterministries.nl/event/warme-kerst-celebration-in-christ-worship-centre-amsterdam/
ATTACH;FMTTYPE=image/jpeg:https://livingwaterministries.nl/wp-content/uploads/2025/11/WhatsApp-Image-2025-11-17-at-10.25.46.jpeg
END:VEVENT
BEGIN:VEVENT
DTSTART;TZID=UTC:20251214T100000
DTEND;TZID=UTC:20251214T123000
DTSTAMP:20260420T144846
CREATED:20251119T195021Z
LAST-MODIFIED:20251119T195021Z
UID:2033-1765706400-1765715400@livingwaterministries.nl
SUMMARY:REVIVAL CELEBRATION VREDEKERK HOOGEZAND
DESCRIPTION:REVIVAL CELEBRATION IN DE VREDEKERK HOOGEZAND Aanvang 10.00 uur  \nZondagmorgen 14 december a.s. zijn we uitgenodigd door onze longtime vriend Gerke Oostra\, die tevens de pastor is om een Revival Celebration te houden met veel zang en muziek. Ook zal ik een frisse Boodschap brengen over: “Verkeerd Bidden en Goed Bidden”. Goed Bidden is bidden met resultaten!! \nNeem je (onbekeerde) kennissen\, familieleden en vrienden uit\, want dit gaat heel bijzonder worden!!  Na de dienst is er gelegenheid voor een persoonlijk gesprek en gebed!  \nVREDEKERK \nVAN DER DUYN VAN MAASDAMWEG 216 \nHOOGEZAND \nAANVANG 10.00 UUR 
URL:https://livingwaterministries.nl/event/revival-celebration-vredekerk-hoogezand/
ATTACH;FMTTYPE=image/jpeg:https://livingwaterministries.nl/wp-content/uploads/2025/11/WhatsApp-Image-2025-11-17-at-10.13.22.jpeg
END:VEVENT
BEGIN:VEVENT
DTSTART;TZID=UTC:20251207T100000
DTEND;TZID=UTC:20251207T123000
DTSTAMP:20260420T144846
CREATED:20251204T200136Z
LAST-MODIFIED:20251204T200136Z
UID:2044-1765101600-1765110600@livingwaterministries.nl
SUMMARY:REVIVAL DIENST IN DE LEVENSBRON GEMEENTE ZEVENHUIZEN (Gr)
DESCRIPTION:REVIVALMEETING IN DE LEVENSBRON GEMEENTE IN ZEVENHUIZEN (Gr) Aanvang 10.00 uur. \nZondagmorgen 7 December a.s. houden we in onze eigen Levensbron Gemeente een knallende Revivalmeeting. Efi zal zingen en het thema van mijn Boodschap zal luiden: “VERWACHTINGSVOL/BEN JIJ IN VERWACHTING?”!!  Het is een maandthema in de loop naar Kerst!! \nNodig je (onbekeerde) vrienden en familie uit en geloof dat God ze gaat aanraken!! \nEG DE LEVENSBRON \nOudestreek 11 \nZevenhuizen \nAanvang 10.00 uur
URL:https://livingwaterministries.nl/event/revival-dienst-in-de-levensbron-gemeente-zevenhuizen-gr/
ATTACH;FMTTYPE=image/jpeg:https://livingwaterministries.nl/wp-content/uploads/2024/02/6.jpg
END:VEVENT
BEGIN:VEVENT
DTSTART;TZID=UTC:20251109T100000
DTEND;TZID=UTC:20251109T100000
DTSTAMP:20260420T144846
CREATED:20251105T074911Z
LAST-MODIFIED:20251105T101111Z
UID:1893-1762682400-1762682400@livingwaterministries.nl
SUMMARY:
DESCRIPTION:EVANGELISATIEDIENST IN DE WELCOME HOME CHURCH IN IJLST  AANVANG 10.00 UUR \nZondagmorgen 9 november a.s. gaan we feest vieren in de fijne WHC aan de Stadslaan 6 in IJLST. We gaan vertellen van de wonderen die we hebben beleefd tijdens onze recente revivaltour in Indonesië!! Na de dienst hete soep en gesorteerde broodjes. Iedereen welkom!! Gezellig!
URL:https://livingwaterministries.nl/event/1893/
ATTACH;FMTTYPE=image/jpeg:https://livingwaterministries.nl/wp-content/uploads/2024/10/ARJAN-EN-EFI-MET-JONGEREN-1.jpg
END:VEVENT
END:VCALENDAR